Package: IdeoViz Version: 1.43.0 Command: /home/biocbuild/bbs-3.21-bioc/R/bin/R CMD INSTALL IdeoViz StartedAt: 2025-02-20 15:42:40 -0500 (Thu, 20 Feb 2025) EndedAt: 2025-02-20 15:43:08 -0500 (Thu, 20 Feb 2025) EllapsedTime: 27.6 seconds RetCode: 0 Status: OK