Package: IdeoViz Version: 1.43.0 Command: /home/biocbuild/bbs-3.21-bioc/R/bin/R CMD check --install=check:IdeoViz.install-out.txt --library=/home/biocbuild/bbs-3.21-bioc/R/site-library --timings IdeoViz_1.43.0.tar.gz StartedAt: 2025-02-20 22:50:33 -0500 (Thu, 20 Feb 2025) EndedAt: 2025-02-20 22:52:52 -0500 (Thu, 20 Feb 2025) EllapsedTime: 139.2 seconds RetCode: 0 Status: WARNINGS CheckDir: IdeoViz.Rcheck Warnings: 2