Package: IdeoViz Version: 1.43.0 Command: /Library/Frameworks/R.framework/Resources/bin/R CMD INSTALL IdeoViz StartedAt: 2025-02-20 15:09:16 -0500 (Thu, 20 Feb 2025) EndedAt: 2025-02-20 15:09:28 -0500 (Thu, 20 Feb 2025) EllapsedTime: 11.8 seconds RetCode: 0 Status: OK