Package: IdeoViz Version: 1.43.0 Command: /Library/Frameworks/R.framework/Resources/bin/R CMD check --install=check:IdeoViz.install-out.txt --library=/Library/Frameworks/R.framework/Resources/library --no-vignettes --timings IdeoViz_1.43.0.tar.gz StartedAt: 2025-02-20 19:44:53 -0500 (Thu, 20 Feb 2025) EndedAt: 2025-02-20 19:46:02 -0500 (Thu, 20 Feb 2025) EllapsedTime: 68.8 seconds RetCode: 0 Status: WARNINGS CheckDir: IdeoViz.Rcheck Warnings: 2