Package: Icens Version: 1.79.0 Command: chmod a+r Icens -R && E:\biocbuild\bbs-3.21-bioc\R\bin\R.exe CMD build --keep-empty-dirs --no-resave-data Icens StartedAt: 2025-02-19 19:20:54 -0500 (Wed, 19 Feb 2025) EndedAt: 2025-02-19 19:20:56 -0500 (Wed, 19 Feb 2025) EllapsedTime: 2.0 seconds RetCode: 0 Status: OK PackageFile: Icens_1.79.0.tar.gz PackageFileSize: 20.83 KiB