Package: Icens Version: 1.79.0 Command: rm -rf Icens.buildbin-libdir && mkdir Icens.buildbin-libdir && E:\biocbuild\bbs-3.21-bioc\R\bin\R.exe CMD INSTALL --build --library=Icens.buildbin-libdir Icens_1.79.0.tar.gz StartedAt: 2025-02-20 07:58:58 -0500 (Thu, 20 Feb 2025) EndedAt: 2025-02-20 07:59:16 -0500 (Thu, 20 Feb 2025) EllapsedTime: 17.8 seconds RetCode: 0 Status: OK PackageFile: Icens_1.79.0.zip PackageFileSize: 112.6 KiB