Package: Icens Version: 1.79.0 Command: /Library/Frameworks/R.framework/Resources/bin/R CMD check --install=check:Icens.install-out.txt --library=/Library/Frameworks/R.framework/Resources/library --no-vignettes --timings Icens_1.79.0.tar.gz StartedAt: 2025-02-20 21:03:57 -0500 (Thu, 20 Feb 2025) EndedAt: 2025-02-20 21:04:39 -0500 (Thu, 20 Feb 2025) EllapsedTime: 42.6 seconds RetCode: 0 Status: OK CheckDir: Icens.Rcheck Warnings: 0