Package: Icens Version: 1.79.0 Command: rm -rf Icens.buildbin-libdir && mkdir Icens.buildbin-libdir && /Users/biocbuild/BBS/utils/build-universal.sh Icens_1.79.0.tar.gz /Library/Frameworks/R.framework/Resources/bin/R Icens.buildbin-libdir StartedAt: 2025-02-20 22:22:18 -0500 (Thu, 20 Feb 2025) EndedAt: 2025-02-20 22:22:21 -0500 (Thu, 20 Feb 2025) EllapsedTime: 3.1 seconds RetCode: 0 Status: OK PackageFile: Icens_1.79.0.tgz PackageFileSize: 110.6 KiB