Package: IWTomics Version: 1.31.0 Command: E:\biocbuild\bbs-3.21-bioc\R\bin\R.exe CMD INSTALL IWTomics StartedAt: 2025-02-20 17:01:48 -0500 (Thu, 20 Feb 2025) EndedAt: 2025-02-20 17:02:34 -0500 (Thu, 20 Feb 2025) EllapsedTime: 45.3 seconds RetCode: 0 Status: OK