Package: IWTomics Version: 1.31.0 Command: chmod a+r IWTomics -R && E:\biocbuild\bbs-3.21-bioc\R\bin\R.exe CMD build --keep-empty-dirs --no-resave-data IWTomics StartedAt: 2025-02-20 19:34:06 -0500 (Thu, 20 Feb 2025) EndedAt: 2025-02-20 19:36:49 -0500 (Thu, 20 Feb 2025) EllapsedTime: 163.1 seconds RetCode: 0 Status: OK PackageFile: IWTomics_1.31.0.tar.gz PackageFileSize: 1.247 MiB