Package: IWTomics Version: 1.31.0 Command: rm -rf IWTomics.buildbin-libdir && mkdir IWTomics.buildbin-libdir && E:\biocbuild\bbs-3.21-bioc\R\bin\R.exe CMD INSTALL --build --library=IWTomics.buildbin-libdir IWTomics_1.31.0.tar.gz StartedAt: 2025-02-21 08:23:00 -0500 (Fri, 21 Feb 2025) EndedAt: 2025-02-21 08:24:22 -0500 (Fri, 21 Feb 2025) EllapsedTime: 82.0 seconds RetCode: 0 Status: OK PackageFile: IWTomics_1.31.0.zip PackageFileSize: 1.633 MiB