Package: IWTomics Version: 1.31.0 Command: /home/biocbuild/bbs-3.21-bioc/R/bin/R CMD build --keep-empty-dirs --no-resave-data IWTomics StartedAt: 2025-02-20 17:56:58 -0500 (Thu, 20 Feb 2025) EndedAt: 2025-02-20 17:58:37 -0500 (Thu, 20 Feb 2025) EllapsedTime: 99.1 seconds RetCode: 0 Status: OK PackageFile: IWTomics_1.31.0.tar.gz PackageFileSize: 1.398 MiB