Package: IWTomics Version: 1.31.0 Command: /Library/Frameworks/R.framework/Resources/bin/R CMD INSTALL IWTomics StartedAt: 2025-02-20 15:44:26 -0500 (Thu, 20 Feb 2025) EndedAt: 2025-02-20 15:44:49 -0500 (Thu, 20 Feb 2025) EllapsedTime: 22.3 seconds RetCode: 0 Status: OK