Package: IWTomics Version: 1.31.0 Command: /Library/Frameworks/R.framework/Resources/bin/R CMD check --install=check:IWTomics.install-out.txt --library=/Library/Frameworks/R.framework/Resources/library --no-vignettes --timings IWTomics_1.31.0.tar.gz StartedAt: 2025-02-20 21:13:57 -0500 (Thu, 20 Feb 2025) EndedAt: 2025-02-20 21:17:39 -0500 (Thu, 20 Feb 2025) EllapsedTime: 222.0 seconds RetCode: 0 Status: WARNINGS CheckDir: IWTomics.Rcheck Warnings: 1