Package: IWTomics Version: 1.31.0 Command: /Library/Frameworks/R.framework/Resources/bin/R CMD build --keep-empty-dirs --no-resave-data IWTomics StartedAt: 2025-02-20 17:08:00 -0500 (Thu, 20 Feb 2025) EndedAt: 2025-02-20 17:09:57 -0500 (Thu, 20 Feb 2025) EllapsedTime: 116.7 seconds RetCode: 0 Status: OK PackageFile: IWTomics_1.31.0.tar.gz PackageFileSize: 1.403 MiB