Package: IVAS Version: 2.27.0 Command: E:\biocbuild\bbs-3.21-bioc\R\bin\R.exe CMD check --no-multiarch --install=check:IVAS.install-out.txt --library=E:\biocbuild\bbs-3.21-bioc\R\library --no-vignettes --timings IVAS_2.27.0.tar.gz StartedAt: 2025-02-20 02:22:13 -0500 (Thu, 20 Feb 2025) EndedAt: 2025-02-20 02:28:08 -0500 (Thu, 20 Feb 2025) EllapsedTime: 355.5 seconds RetCode: 0 Status: WARNINGS CheckDir: IVAS.Rcheck Warnings: 1