Package: IVAS Version: 2.27.0 Command: chmod a+r IVAS -R && E:\biocbuild\bbs-3.21-bioc\R\bin\R.exe CMD build --keep-empty-dirs --no-resave-data IVAS StartedAt: 2025-02-19 19:32:13 -0500 (Wed, 19 Feb 2025) EndedAt: 2025-02-19 19:33:37 -0500 (Wed, 19 Feb 2025) EllapsedTime: 83.9 seconds RetCode: 0 Status: OK PackageFile: IVAS_2.27.0.tar.gz PackageFileSize: 245.6 KiB