Package: IVAS Version: 2.27.0 Command: /home/biocbuild/bbs-3.21-bioc/R/bin/R CMD INSTALL IVAS StartedAt: 2025-02-19 15:43:06 -0500 (Wed, 19 Feb 2025) EndedAt: 2025-02-19 15:43:45 -0500 (Wed, 19 Feb 2025) EllapsedTime: 39.9 seconds RetCode: 0 Status: OK