Package: ITALICS Version: 2.67.0 Command: /Library/Frameworks/R.framework/Resources/bin/R CMD INSTALL ITALICS StartedAt: 2025-02-19 15:07:41 -0500 (Wed, 19 Feb 2025) EndedAt: 2025-02-19 15:07:41 -0500 (Wed, 19 Feb 2025) EllapsedTime: 0.2 seconds RetCode: 1 Status: ERROR