Package: ISoLDE Version: 1.35.0 Command: /home/biocbuild/bbs-3.21-bioc/R/bin/R CMD check --install=check:ISoLDE.install-out.txt --library=/home/biocbuild/bbs-3.21-bioc/R/site-library --timings ISoLDE_1.35.0.tar.gz StartedAt: 2025-02-20 23:02:42 -0500 (Thu, 20 Feb 2025) EndedAt: 2025-02-20 23:03:55 -0500 (Thu, 20 Feb 2025) EllapsedTime: 73.1 seconds RetCode: 0 Status: WARNINGS CheckDir: ISoLDE.Rcheck Warnings: 1