Package: ISAnalytics Version: 1.17.1 Command: chmod a+r ISAnalytics -R && E:\biocbuild\bbs-3.21-bioc\R\bin\R.exe CMD build --keep-empty-dirs --no-resave-data ISAnalytics StartedAt: 2025-02-20 19:30:27 -0500 (Thu, 20 Feb 2025) EndedAt: 2025-02-20 19:36:16 -0500 (Thu, 20 Feb 2025) EllapsedTime: 349.3 seconds RetCode: 0 Status: OK PackageFile: ISAnalytics_1.17.1.tar.gz PackageFileSize: 3.982 MiB