Package: ISAnalytics Version: 1.17.1 Command: rm -rf ISAnalytics.buildbin-libdir && mkdir ISAnalytics.buildbin-libdir && E:\biocbuild\bbs-3.21-bioc\R\bin\R.exe CMD INSTALL --build --library=ISAnalytics.buildbin-libdir ISAnalytics_1.17.1.tar.gz StartedAt: 2025-02-21 08:21:17 -0500 (Fri, 21 Feb 2025) EndedAt: 2025-02-21 08:30:43 -0500 (Fri, 21 Feb 2025) EllapsedTime: 566.1 seconds RetCode: 0 Status: OK PackageFile: ISAnalytics_1.17.1.zip PackageFileSize: 4.823 MiB