Package: ISAnalytics Version: 1.18.0 Command: rm -rf ISAnalytics.buildbin-libdir && mkdir ISAnalytics.buildbin-libdir && /Users/biocbuild/BBS/utils/build-universal.sh ISAnalytics_1.18.0.tar.gz /Library/Frameworks/R.framework/Resources/bin/R ISAnalytics.buildbin-libdir StartedAt: 2025-10-15 18:58:54 -0400 (Wed, 15 Oct 2025) EndedAt: 2025-10-15 18:59:22 -0400 (Wed, 15 Oct 2025) EllapsedTime: 28.2 seconds RetCode: 0 Status: OK PackageFile: ISAnalytics_1.18.0.tgz PackageFileSize: 5.26 MiB