Package: IPO Version: 1.33.0 Command: chmod a+r IPO -R && E:\biocbuild\bbs-3.21-bioc\R\bin\R.exe CMD build --keep-empty-dirs --no-resave-data IPO StartedAt: 2025-02-21 20:08:34 -0500 (Fri, 21 Feb 2025) EndedAt: 2025-02-21 20:41:59 -0500 (Fri, 21 Feb 2025) EllapsedTime: 2005.4 seconds RetCode: 0 Status: OK PackageFile: IPO_1.33.0.tar.gz PackageFileSize: 536.3 KiB