Package: IPO Version: 1.33.0 Command: rm -rf IPO.buildbin-libdir && mkdir IPO.buildbin-libdir && E:\biocbuild\bbs-3.21-bioc\R\bin\R.exe CMD INSTALL --build --library=IPO.buildbin-libdir IPO_1.33.0.tar.gz StartedAt: 2025-02-22 08:35:46 -0500 (Sat, 22 Feb 2025) EndedAt: 2025-02-22 08:37:00 -0500 (Sat, 22 Feb 2025) EllapsedTime: 74.8 seconds RetCode: 0 Status: OK PackageFile: IPO_1.33.0.zip PackageFileSize: 496.3 KiB