Package: IPO Version: 1.33.0 Command: /home/biocbuild/bbs-3.21-bioc/R/bin/R CMD INSTALL IPO StartedAt: 2025-02-21 16:22:07 -0500 (Fri, 21 Feb 2025) EndedAt: 2025-02-21 16:22:50 -0500 (Fri, 21 Feb 2025) EllapsedTime: 42.7 seconds RetCode: 0 Status: OK