Package: IPO Version: 1.33.0 Command: /Library/Frameworks/R.framework/Resources/bin/R CMD INSTALL IPO StartedAt: 2025-02-21 15:19:35 -0500 (Fri, 21 Feb 2025) EndedAt: 2025-02-21 15:19:53 -0500 (Fri, 21 Feb 2025) EllapsedTime: 17.6 seconds RetCode: 0 Status: OK