Package: INSPEcT Version: 1.37.0 Command: /home/biocbuild/bbs-3.21-bioc/R/bin/R CMD check --install=check:INSPEcT.install-out.txt --library=/home/biocbuild/bbs-3.21-bioc/R/site-library --timings INSPEcT_1.37.0.tar.gz StartedAt: 2025-02-18 23:04:31 -0500 (Tue, 18 Feb 2025) EndedAt: 2025-02-18 23:22:44 -0500 (Tue, 18 Feb 2025) EllapsedTime: 1093.6 seconds RetCode: 0 Status: OK CheckDir: INSPEcT.Rcheck Warnings: 0