Package: INSPEcT Version: 1.37.0 Command: rm -rf INSPEcT.buildbin-libdir && mkdir INSPEcT.buildbin-libdir && /Users/biocbuild/BBS/utils/build-universal.sh INSPEcT_1.37.0.tar.gz /Library/Frameworks/R.framework/Resources/bin/R INSPEcT.buildbin-libdir StartedAt: 2025-02-20 00:37:23 -0500 (Thu, 20 Feb 2025) EndedAt: 2025-02-20 00:38:52 -0500 (Thu, 20 Feb 2025) EllapsedTime: 89.1 seconds RetCode: 0 Status: OK PackageFile: INSPEcT_1.37.0.tgz PackageFileSize: 8.727 MiB