Package: INSPEcT Version: 1.37.0 Command: /Library/Frameworks/R.framework/Resources/bin/R CMD build --keep-empty-dirs --no-resave-data INSPEcT StartedAt: 2025-02-18 16:42:54 -0500 (Tue, 18 Feb 2025) EndedAt: 2025-02-18 16:46:01 -0500 (Tue, 18 Feb 2025) EllapsedTime: 187.0 seconds RetCode: 0 Status: OK PackageFile: INSPEcT_1.37.0.tar.gz PackageFileSize: 58.56 MiB