Package: INPower Version: 1.43.0 Command: /home/biocbuild/bbs-3.21-bioc/R/bin/R CMD build --keep-empty-dirs --no-resave-data INPower StartedAt: 2025-02-19 17:44:41 -0500 (Wed, 19 Feb 2025) EndedAt: 2025-02-19 17:44:47 -0500 (Wed, 19 Feb 2025) EllapsedTime: 6.0 seconds RetCode: 0 Status: OK PackageFile: INPower_1.43.0.tar.gz PackageFileSize: 147.5 KiB