Package: INPower Version: 1.43.0 Command: /Library/Frameworks/R.framework/Resources/bin/R CMD INSTALL INPower StartedAt: 2025-02-20 15:05:12 -0500 (Thu, 20 Feb 2025) EndedAt: 2025-02-20 15:05:33 -0500 (Thu, 20 Feb 2025) EllapsedTime: 21.2 seconds RetCode: 0 Status: OK