Package: INDEED Version: 2.21.0 Command: /Library/Frameworks/R.framework/Resources/bin/R CMD check --install=check:INDEED.install-out.txt --library=/Library/Frameworks/R.framework/Resources/library --no-vignettes --timings INDEED_2.21.0.tar.gz StartedAt: 2025-02-19 21:06:40 -0500 (Wed, 19 Feb 2025) EndedAt: 2025-02-19 21:07:45 -0500 (Wed, 19 Feb 2025) EllapsedTime: 65.4 seconds RetCode: 0 Status: OK CheckDir: INDEED.Rcheck Warnings: 0