Package: IMPCdata Version: 1.43.0 Command: /home/biocbuild/bbs-3.21-bioc/R/bin/R CMD check --install=check:IMPCdata.install-out.txt --library=/home/biocbuild/bbs-3.21-bioc/R/site-library --timings IMPCdata_1.43.0.tar.gz StartedAt: 2025-02-20 22:52:58 -0500 (Thu, 20 Feb 2025) EndedAt: 2025-02-20 22:55:39 -0500 (Thu, 20 Feb 2025) EllapsedTime: 161.2 seconds RetCode: 0 Status: OK CheckDir: IMPCdata.Rcheck Warnings: 0