Package: IMPCdata Version: 1.43.0 Command: /Library/Frameworks/R.framework/Resources/bin/R CMD build --keep-empty-dirs --no-resave-data IMPCdata StartedAt: 2025-02-20 17:04:12 -0500 (Thu, 20 Feb 2025) EndedAt: 2025-02-20 17:05:20 -0500 (Thu, 20 Feb 2025) EllapsedTime: 67.9 seconds RetCode: 0 Status: OK PackageFile: IMPCdata_1.43.0.tar.gz PackageFileSize: 107.5 KiB