Package: IMPCdata Version: 1.43.0 Command: /Library/Frameworks/R.framework/Resources/bin/R CMD INSTALL IMPCdata StartedAt: 2025-02-21 15:01:01 -0500 (Fri, 21 Feb 2025) EndedAt: 2025-02-21 15:01:02 -0500 (Fri, 21 Feb 2025) EllapsedTime: 1.7 seconds RetCode: 0 Status: OK