Package: IMPCdata Version: 1.43.0 Command: /Library/Frameworks/R.framework/Resources/bin/R CMD check --install=check:IMPCdata.install-out.txt --library=/Library/Frameworks/R.framework/Resources/library --no-vignettes --timings IMPCdata_1.43.0.tar.gz StartedAt: 2025-02-20 19:46:56 -0500 (Thu, 20 Feb 2025) EndedAt: 2025-02-20 19:47:59 -0500 (Thu, 20 Feb 2025) EllapsedTime: 62.8 seconds RetCode: 0 Status: OK CheckDir: IMPCdata.Rcheck Warnings: 0