Package: IMPCdata Version: 1.43.0 Command: /Library/Frameworks/R.framework/Resources/bin/R CMD build --keep-empty-dirs --no-resave-data IMPCdata StartedAt: 2025-02-21 16:41:30 -0500 (Fri, 21 Feb 2025) EndedAt: 2025-02-21 16:42:38 -0500 (Fri, 21 Feb 2025) EllapsedTime: 67.7 seconds RetCode: 0 Status: OK PackageFile: IMPCdata_1.43.0.tar.gz PackageFileSize: 107.3 KiB