Package: IMAS Version: 1.31.0 Command: /home/biocbuild/bbs-3.21-bioc/R/bin/R CMD INSTALL IMAS StartedAt: 2025-02-20 15:58:59 -0500 (Thu, 20 Feb 2025) EndedAt: 2025-02-20 15:59:38 -0500 (Thu, 20 Feb 2025) EllapsedTime: 39.8 seconds RetCode: 0 Status: OK