Package: IMAS Version: 1.31.0 Command: /Library/Frameworks/R.framework/Resources/bin/R CMD check --install=check:IMAS.install-out.txt --library=/Library/Frameworks/R.framework/Resources/library --no-vignettes --timings IMAS_1.31.0.tar.gz StartedAt: 2025-02-19 21:06:07 -0500 (Wed, 19 Feb 2025) EndedAt: 2025-02-19 21:12:01 -0500 (Wed, 19 Feb 2025) EllapsedTime: 353.3 seconds RetCode: 0 Status: OK CheckDir: IMAS.Rcheck Warnings: 0