Package: IMAS Version: 1.31.0 Command: rm -rf IMAS.buildbin-libdir && mkdir IMAS.buildbin-libdir && /Users/biocbuild/BBS/utils/build-universal.sh IMAS_1.31.0.tar.gz /Library/Frameworks/R.framework/Resources/bin/R IMAS.buildbin-libdir StartedAt: 2025-02-21 00:35:52 -0500 (Fri, 21 Feb 2025) EndedAt: 2025-02-21 00:36:49 -0500 (Fri, 21 Feb 2025) EllapsedTime: 56.7 seconds RetCode: 0 Status: OK PackageFile: IMAS_1.31.0.tgz PackageFileSize: 755 KiB