Package: IMAS Version: 1.31.0 Command: /home/biocbuild/R/R/bin/R CMD build --keep-empty-dirs --no-resave-data IMAS StartedAt: 2025-01-28 23:43:04 -0000 (Tue, 28 Jan 2025) EndedAt: 2025-01-28 23:45:09 -0000 (Tue, 28 Jan 2025) EllapsedTime: 124.2 seconds RetCode: 0 Status: OK PackageFile: IMAS_1.31.0.tar.gz PackageFileSize: 594 KiB