Package: ILoReg Version: 1.17.0 Command: rm -rf ILoReg.buildbin-libdir && mkdir ILoReg.buildbin-libdir && E:\biocbuild\bbs-3.21-bioc\R\bin\R.exe CMD INSTALL --build --library=ILoReg.buildbin-libdir ILoReg_1.17.0.tar.gz StartedAt: 2025-02-21 08:19:18 -0500 (Fri, 21 Feb 2025) EndedAt: 2025-02-21 08:20:30 -0500 (Fri, 21 Feb 2025) EllapsedTime: 71.4 seconds RetCode: 0 Status: OK PackageFile: ILoReg_1.17.0.zip PackageFileSize: 2.11 MiB