Package: ILoReg Version: 1.17.0 Command: /home/biocbuild/bbs-3.21-bioc/R/bin/R CMD INSTALL ILoReg StartedAt: 2025-02-20 15:30:27 -0500 (Thu, 20 Feb 2025) EndedAt: 2025-02-20 15:30:55 -0500 (Thu, 20 Feb 2025) EllapsedTime: 29.0 seconds RetCode: 0 Status: OK