Package: ILoReg Version: 1.17.0 Command: /Library/Frameworks/R.framework/Resources/bin/R CMD build --keep-empty-dirs --no-resave-data ILoReg StartedAt: 2025-02-20 17:03:34 -0500 (Thu, 20 Feb 2025) EndedAt: 2025-02-20 17:06:14 -0500 (Thu, 20 Feb 2025) EllapsedTime: 159.2 seconds RetCode: 0 Status: OK PackageFile: ILoReg_1.17.0.tar.gz PackageFileSize: 2.746 MiB