Package: IHW Version: 1.35.0 Command: /home/biocbuild/bbs-3.21-bioc/R/bin/R CMD INSTALL IHW StartedAt: 2025-02-20 15:21:50 -0500 (Thu, 20 Feb 2025) EndedAt: 2025-02-20 15:21:52 -0500 (Thu, 20 Feb 2025) EllapsedTime: 1.4 seconds RetCode: 1 Status: ERROR