Package: IHW Version: 1.35.0 Command: /home/biocbuild/bbs-3.21-bioc/R/bin/R CMD build --keep-empty-dirs --no-resave-data IHW StartedAt: 2025-02-19 17:42:48 -0500 (Wed, 19 Feb 2025) EndedAt: 2025-02-19 17:44:44 -0500 (Wed, 19 Feb 2025) EllapsedTime: 116.2 seconds RetCode: 0 Status: OK PackageFile: IHW_1.35.0.tar.gz PackageFileSize: 4.095 MiB