Package: IHW Version: 1.35.0 Command: /Library/Frameworks/R.framework/Resources/bin/R CMD INSTALL IHW StartedAt: 2025-02-20 15:08:59 -0500 (Thu, 20 Feb 2025) EndedAt: 2025-02-20 15:09:00 -0500 (Thu, 20 Feb 2025) EllapsedTime: 1.9 seconds RetCode: 0 Status: OK