Package: IHW Version: 1.35.0 Command: /Library/Frameworks/R.framework/Resources/bin/R CMD check --install=check:IHW.install-out.txt --library=/Library/Frameworks/R.framework/Resources/library --no-vignettes --timings IHW_1.35.0.tar.gz StartedAt: 2025-02-19 19:47:32 -0500 (Wed, 19 Feb 2025) EndedAt: 2025-02-19 19:47:54 -0500 (Wed, 19 Feb 2025) EllapsedTime: 22.2 seconds RetCode: 0 Status: OK CheckDir: IHW.Rcheck Warnings: 0