Package: IHW Version: 1.35.0 Command: rm -rf IHW.buildbin-libdir && mkdir IHW.buildbin-libdir && /Users/biocbuild/BBS/utils/build-universal.sh IHW_1.35.0.tar.gz /Library/Frameworks/R.framework/Resources/bin/R IHW.buildbin-libdir StartedAt: 2025-02-19 22:25:34 -0500 (Wed, 19 Feb 2025) EndedAt: 2025-02-19 22:25:37 -0500 (Wed, 19 Feb 2025) EllapsedTime: 3.1 seconds RetCode: 0 Status: OK PackageFile: IHW_1.35.0.tgz PackageFileSize: 4.954 MiB